BEGIN:VCALENDAR
VERSION:2.0
PRODID:-//ChamberMaster//Event Calendar 2.0//EN
METHOD:PUBLISH
X-PUBLISHED-TTL:P3D
REFRESH-INTERVAL:P3D
CALSCALE:GREGORIAN
BEGIN:VEVENT
DTSTART:20241130T230000Z
DTEND:20241201T030000Z
X-MICROSOFT-CDO-ALLDAYEVENT:FALSE
SUMMARY:Westby Parade of Lights
DESCRIPTION:Parade of Lights will run from 4:00   7:00pm Saturday November 30th.\n\nThere will be chili and soup available.\n\nTe parade will begin at about 7:00 pm.
X-ALT-DESC;FMTTYPE=text/html:<span style="font-size:11.0pt\;">Parade of Lights will run from 4:00 &ndash\; 7:00pm Saturday November 30<sup>th</sup>.<br />\nThere will be chili and soup available.<br />\nTe parade will begin at about 7:00 pm.&nbsp\;</span>
LOCATION:Town of Westby
UID:e.2229.989
SEQUENCE:3
DTSTAMP:20260425T201510Z
URL:http://www.sheridancountychamber.org/events/details/westby-parade-of-lights-989
END:VEVENT

END:VCALENDAR
