BEGIN:VCALENDAR
VERSION:2.0
PRODID:-//ChamberMaster//Event Calendar 2.0//EN
METHOD:PUBLISH
X-PUBLISHED-TTL:P3D
REFRESH-INTERVAL:P3D
CALSCALE:GREGORIAN
BEGIN:VEVENT
DTSTART;VALUE=DATE:20240101
DTEND;VALUE=DATE:20240102
TRANSP:TRANSPARENT
X-MICROSOFT-CDO-ALLDAYEVENT:TRUE
SUMMARY:Membership Renewals
DESCRIPTION:Membership Renewal forms will be emailed out in January then mailed out in February with the annual membership drive closing March 31st.  Contact the chamber with questions or if you want to join.
X-ALT-DESC;FMTTYPE=text/html:Membership Renewal forms will be emailed out in January then mailed out in February with the annual membership drive closing March 31st.&nbsp\; Contact the chamber with questions or if you want to join.&nbsp\;
LOCATION:
UID:e.2229.905
SEQUENCE:3
DTSTAMP:20260425T002520Z
URL:http://www.sheridancountychamber.org/events/details/membership-renewals-905
END:VEVENT

END:VCALENDAR
