BEGIN:VCALENDAR
VERSION:2.0
PRODID:-//ChamberMaster//Event Calendar 2.0//EN
METHOD:PUBLISH
X-PUBLISHED-TTL:P3D
REFRESH-INTERVAL:P3D
CALSCALE:GREGORIAN
BEGIN:VEVENT
DTSTART;VALUE=DATE:20260718
DTEND;VALUE=DATE:20260719
TRANSP:TRANSPARENT
X-MICROSOFT-CDO-ALLDAYEVENT:TRUE
SUMMARY:Big Coulee Live Music
DESCRIPTION:Playing at the Sheridan County Fair\n\nFree Stage in the Beer Gardens
X-ALT-DESC;FMTTYPE=text/html:Playing at the Sheridan County Fair<br />\nFree Stage in the Beer Gardens
LOCATION:Sheridan County Fair Grounds Plentywood\, Montana
UID:e.2229.1066
SEQUENCE:3
DTSTAMP:20260423T235153Z
URL:http://www.sheridancountychamber.org/events/details/big-coulee-live-music-1066
END:VEVENT

END:VCALENDAR
